BEGIN:VCALENDAR
PRODID:-//AT Content Types//AT Event//EN
VERSION:2.0
METHOD:PUBLISH
BEGIN:VEVENT
DTSTAMP:20260421T132836Z
CREATED:20100505T091118Z
UID:ATEvent-4029efdfe7bfed2709b66a29db763a67
LAST-MODIFIED:20100813T075605Z
SUMMARY:Francisco López\:"The international underground network and the real world as settings for audio creation"
DTSTART:20100518T173000Z
DTEND:20100518T190000Z
DESCRIPTION:Exhibition of the main environments of influence and inspi
 ration for audio creation that have shaped the work of Francisco Lópe
 z over the last 30 years\: the international network of independent so
 und creators (from the late 1970s to the present) and 'real world' (na
 tural and artificial) sound environments.
CATEGORIES:Lecture
CLASS:PUBLIC
END:VEVENT
END:VCALENDAR
