BEGIN:VCALENDAR
PRODID:-//AT Content Types//AT Event//EN
VERSION:2.0
METHOD:PUBLISH
BEGIN:VEVENT
DTSTAMP:20260423T081716Z
CREATED:20100802T114302Z
UID:ATEvent-282a8a9e44e95698dcbdeff3c65ed99b
LAST-MODIFIED:20101006T082437Z
SUMMARY:Existential unease and the search for meaning in the late 19th century
DTSTART:20100914T170000Z
DTEND:20101019T190000Z
DESCRIPTION:From the beginning of the 19th century to the first half o
 f the 20th\, as a consequence of industrialisation among other factors
 \, humanity experienced a growing rootlessness\, especially in the Wes
 t\, as identity was shaken and a profound transformation was seen in c
 ustoms and ways of life\, leading to a feeling of unease among million
 s of people.
CATEGORIES:Reading group
CLASS:PUBLIC
END:VEVENT
END:VCALENDAR
