BEGIN:VCALENDAR
PRODID:-//AT Content Types//AT Event//EN
VERSION:2.0
METHOD:PUBLISH
BEGIN:VEVENT
DTSTAMP:20260421T133637Z
CREATED:20090827T090602Z
UID:ATEvent-6d7a09e57745f455be98fa2a904c11ac
LAST-MODIFIED:20100813T074440Z
SUMMARY:__VACIO__Concierto jason khan
DTSTART:20090609T163000Z
DTEND:20090609T170500Z
DESCRIPTION:Jason Khan. Organizado por Audiolab\, laboratorio de sonid
 o.
LOCATION:Arteleku
CLASS:PUBLIC
END:VEVENT
END:VCALENDAR
