BEGIN:VCALENDAR
PRODID:-//AT Content Types//AT Event//EN
VERSION:2.0
METHOD:PUBLISH
BEGIN:VEVENT
DTSTAMP:20260423T082421Z
CREATED:20100802T114302Z
UID:ATEvent-2c8b017d8180bfd3d38f30db97760072
LAST-MODIFIED:20101006T082437Z
SUMMARY:Malestar existencial y búsqueda de sentido a finales del S.XIX
DTSTART:20100914T170000Z
DTEND:20101019T190000Z
DESCRIPTION:Desde los comienzos del siglo XIX a la primera mitad del X
 X\, y como consecuencia del industrialismo y otros muchos factores\, e
 specialmente en Occidente se produjo un desarraigo del ser humano\, un
  tambalearse de su identidad y una profunda transformación de costumb
 res y formas de vida\, que provocó malestar en millones de personas.
CATEGORIES:Grupo de lectura
CLASS:PUBLIC
END:VEVENT
END:VCALENDAR
